BEGIN:VCALENDAR
VERSION:2.0
PRODID:-//PAONL - ECPv6.5.0//NONSGML v1.0//EN
CALSCALE:GREGORIAN
METHOD:PUBLISH
X-WR-CALNAME:PAONL
X-ORIGINAL-URL:https://www.paonl.ca
X-WR-CALDESC:Events for PAONL
REFRESH-INTERVAL;VALUE=DURATION:PT1H
X-Robots-Tag:noindex
X-PUBLISHED-TTL:PT1H
BEGIN:VTIMEZONE
TZID:America/St_Johns
BEGIN:DAYLIGHT
TZOFFSETFROM:-0330
TZOFFSETTO:-0230
TZNAME:NDT
DTSTART:20160313T053000
END:DAYLIGHT
BEGIN:STANDARD
TZOFFSETFROM:-0230
TZOFFSETTO:-0330
TZNAME:NST
DTSTART:20161106T043000
END:STANDARD
END:VTIMEZONE
BEGIN:VEVENT
DTSTART;TZID=America/St_Johns:20161027T083000
DTEND;TZID=America/St_Johns:20161028T163000
DTSTAMP:20260419T130126
CREATED:20161020T132203Z
LAST-MODIFIED:20161020T135320Z
UID:1947-1477557000-1477672200@www.paonl.ca
SUMMARY:Global Leadership Summit
DESCRIPTION:[vc_row][vc_column][vc_column_text]The Global Leadership Summit is a two-day event telecast LIVE in HD from Willow Creek in Chicago every August to hundreds of locations in North America. Throughout the fall\, the Summit is rebroadcast to an additional 675+ sites in 125 countries and 59 languages. You are invited to join an expected 450\,000 people committed to getting better as leaders in 2016. Register to attend one of our Canadian Premier Host Sites. Experience world-class leadership training that is not just affordable but accessible to you![/vc_column_text][vc_empty_space height=”40px”]More Info[vc_empty_space height=”40px”][vc_text_separator title=”Featured Guests”][/vc_column][/vc_row][vc_row][vc_column width=”1/4″][vc_single_image image=”1952″ img_size=””][/vc_column][vc_column width=”3/4″][vc_column_text] \nBill Hybel\nFounder \nBill Hybels is senior pastor of Willow Creek Community Church\, a church of more than 25\,000 that celebrated its 40th year in 2015. He founded The Global Leadership Summit with a commitment to develop and mentor leaders worldwide\, now impacting leaders in 125 countries. Hybels is the best-selling author of more than 20 books and his new video curriculum\, Leading From Here to There: 5 Essential Skills is releasing in August 2016.[/vc_column_text][/vc_column][/vc_row][vc_row][vc_column width=”1/4″][vc_single_image image=”1953″ img_size=””][/vc_column][vc_column width=”3/4″][vc_column_text] \nMelinda Gates\nCo-Chair\, Bill & Melinda Gates Foundation \nAs co-chair of the foundation\, Melinda Gates shapes and approves strategies\, reviews results and sets the overall direction of the organization. Her work has led her to focus on empowering women and girls to bring transformational improvements in the health and prosperity of families\, communities and societies. After joining Microsoft Corp. in 1987\, she helped develop many of the company’s multimedia products. In 1996\, Melinda left Microsoft to focus on her philanthropic work and family.[/vc_column_text][/vc_column][/vc_row][vc_row][vc_column width=”1/4″][vc_single_image image=”1954″ img_size=””][/vc_column][vc_column width=”3/4″][vc_column_text] \nAlan Mulally\nPresident and Chief Executive Officer\, The Ford Motor Company (2006-2014) \nAlan Mulally led Ford’s transformation into one of the world’s leading automobile companies and the #1 automobile brand in the United States—returning it to profitability and changing the way the organization works. Prior to joining Ford\, he served as executive vice president of The Boeing Company. Mulally has been named No. 3 on Fortune’s “World’s Greatest Leaders” list and one of “The World’s Most Influential People” by TIME magazine.[/vc_column_text][/vc_column][/vc_row]
URL:https://www.paonl.ca/event/global-leadership-summit/
LOCATION:The Majestic Theatre\, 390 Duckworth Street\, St. John's\, Newfoundland and Labrador\, Canada
ATTACH;FMTTYPE=image/jpeg:https://www.paonl.ca/wp-content/uploads/2016/10/gls-website.jpg
GEO:47.562416;-52.710763
X-APPLE-STRUCTURED-LOCATION;VALUE=URI;X-ADDRESS=The Majestic Theatre 390 Duckworth Street St. John's Newfoundland and Labrador Canada;X-APPLE-RADIUS=500;X-TITLE=390 Duckworth Street:geo:-52.710763,47.562416
END:VEVENT
BEGIN:VEVENT
DTSTART;TZID=America/St_Johns:20161020T150000
DTEND;TZID=America/St_Johns:20161023T120000
DTSTAMP:20260419T130126
CREATED:20161017T180921Z
LAST-MODIFIED:20161019T181451Z
UID:1890-1476975600-1477224000@www.paonl.ca
SUMMARY:Fall Leadership Conference 2016
DESCRIPTION:Related Info
URL:https://www.paonl.ca/event/fall-leadership-conference-2016/
LOCATION:Emmanuel Convention Centre\, Lewisporte\, Newfoundland & Labrador\, Canada
ATTACH;FMTTYPE=image/jpeg:https://www.paonl.ca/wp-content/uploads/2016/10/bible-and-books.jpg
GEO:49.1415975;-55.0869845
END:VEVENT
BEGIN:VEVENT
DTSTART;TZID=America/St_Johns:20161007T130000
DTEND;TZID=America/St_Johns:20161009T120000
DTSTAMP:20260419T130126
CREATED:20160912T143940Z
LAST-MODIFIED:20160928T190305Z
UID:1699-1475845200-1476014400@www.paonl.ca
SUMMARY:YCNL 2016
DESCRIPTION:[vc_row][vc_column][vc_column_text] \nLuke 5:4 When He had stopped speaking\, He said to Simon\, “Launch out into the deep and let down your nets for a catch.” \nWhen Jesus finished teaching the crowds in Luke 5\, he told Peter to launch out into deeper water and get ready to experience a catch like he had have never seen before.  Peter had to take a step of faith and believe God would use him to witness a miracle of epic proportions. That same call will come our way on October 7-9\, 2016. God wants to LAUNCH this generation “beyond the shore\, into the waves” where they can experience the depth of His love and the depth of His plans for their lives.  This LAUNCH may take them across the street or around the world.  The countdown clock has begun.[/vc_column_text][vc_empty_space]2016/10/07 13:00:00[/vc_column][/vc_row][vc_row][vc_column]More Info[vc_empty_space height=”20″]Register Now[/vc_column][/vc_row]
URL:https://www.paonl.ca/event/ycnl-2016/
LOCATION:Paradise Double Ice Complex\, 68 McNamara Dr.\, Paradise\, Newfoundland\, A1L 1Y5\, Canada
ATTACH;FMTTYPE=image/jpeg:https://www.paonl.ca/wp-content/uploads/2016/09/yc2016-1.jpg
GEO:47.5235239;-52.8693287
X-APPLE-STRUCTURED-LOCATION;VALUE=URI;X-ADDRESS=Paradise Double Ice Complex 68 McNamara Dr. Paradise Newfoundland A1L 1Y5 Canada;X-APPLE-RADIUS=500;X-TITLE=68 McNamara Dr.:geo:-52.8693287,47.5235239
END:VEVENT
BEGIN:VEVENT
DTSTART;TZID=America/St_Johns:20160916T150000
DTEND;TZID=America/St_Johns:20160918T120000
DTSTAMP:20260419T130126
CREATED:20160829T122721Z
LAST-MODIFIED:20160915T132102Z
UID:386-1474038000-1474200000@www.paonl.ca
SUMMARY:Women's Ministries Conference 2016
DESCRIPTION:[vc_row][vc_column][vc_column_text]This years Women’s Ministries Conference will happen again this year\, the dates are September 16th – September 18th 2016. \n  \n[/vc_column_text][/vc_column][/vc_row][vc_row][vc_column][vc_text_separator title=”Guests”][vc_empty_space height=”60″][/vc_column][/vc_row][vc_row][vc_column width=”1/2″] Joanne is a dynamite speaker who travels extensively sharing what she has learned through her trials and heartaches.  Her unique ability to share her experiences with transparency and humour leaves her audiences laughing and crying but most importantly\, encouraged.  Joanne currently resides in Hamilton\, Ontario and is the mother of three young adults and grandmother of 10.  She is married to Joe who is an interim pastor as the need arises.  She has earned her masters degree in theology and has appeared several times on 100 Huntley Street.  She is also the former co-host of a Montreal radio talk show. Joanne GoodwinSpeaker[/vc_column][vc_column width=”1/2″] Angie Rogers is a singer/songwriter from Newfoundland & Labrador. Her debut album ‘Hope Dream Believe’ was released in October 2012 and she has since released a Christmas Album\, ‘Home For Christmas’ in 2014. Known for her authentic worship style and a heart after God\, Angie loves to watch what God can do when people spend time in His presence. Today\, Angie & her husband Jon currently reside in Corner Brook\, NL serving as Associate/Youth Pastors of SonRise Ministries – Family Faith Church. Angie RogersWorship Leader[/vc_column][/vc_row][vc_row][vc_column][vc_text_separator title=”Documents”][vc_empty_space height=”60″][/vc_column][/vc_row][vc_row][vc_column][vc_column_text]\n\n\n    \n        \n            \n            \n                WM Conference 2016 Registration Form\n                 1 file(s)  0.00 KB\n            \n            \n                Download\n            \n        \n    \n\n\n\n\n\n\n    \n        \n            \n            \n                WM Conference 2016 Brochure\n                 1 file(s)  0.00 KB\n            \n            \n                Download\n            \n        \n    \n\n\n\n[/vc_column_text][vc_empty_space height=”60″][/vc_column][/vc_row]
URL:https://www.paonl.ca/event/womens-ministries-conference-2016/
LOCATION:Emmanuel Convention Centre\, Lewisporte\, Newfoundland & Labrador\, Canada
ATTACH;FMTTYPE=image/jpeg:https://www.paonl.ca/wp-content/uploads/2016/09/WM_Poster.jpg
GEO:49.1415975;-55.0869845
END:VEVENT
END:VCALENDAR