BEGIN:VCALENDAR
VERSION:2.0
PRODID:-//PAONL - ECPv6.5.0//NONSGML v1.0//EN
CALSCALE:GREGORIAN
METHOD:PUBLISH
X-ORIGINAL-URL:https://www.paonl.ca
X-WR-CALDESC:Events for PAONL
REFRESH-INTERVAL;VALUE=DURATION:PT1H
X-Robots-Tag:noindex
X-PUBLISHED-TTL:PT1H
BEGIN:VTIMEZONE
TZID:America/St_Johns
BEGIN:DAYLIGHT
TZOFFSETFROM:-0330
TZOFFSETTO:-0230
TZNAME:NDT
DTSTART:20220313T053000
END:DAYLIGHT
BEGIN:STANDARD
TZOFFSETFROM:-0230
TZOFFSETTO:-0330
TZNAME:NST
DTSTART:20221106T043000
END:STANDARD
END:VTIMEZONE
BEGIN:VEVENT
DTSTART;VALUE=DATE:20220909
DTEND;VALUE=DATE:20220912
DTSTAMP:20260424T044807
CREATED:20220623T121808Z
LAST-MODIFIED:20220623T122022Z
UID:18782-1662681600-1662940799@www.paonl.ca
SUMMARY:Women's Ministries Conference 2022
DESCRIPTION:[vc_row][vc_column width=”2/3″][vc_column_text]We are so looking forward to seeing you and sharing together for this conference. The theme of this year’s conference is “GATHER”. This is coinciding with the PAONL theme of Come Home and we are looking forward to gathering together as women from across our province as we welcome each of you back to share in an amazing time of worship and the word and just sharing in fellowship with each other. It’s just been too long! \n  \nSpeakers: Pastors Mary Bowers\, Joy Baker\, Courtney O’Reilly & Sheila Purchase \nWorship Leader: Pastor Crystal Patey \nIf you need further information\, please contact Mary Bowers @ mbowers@paonl.ca \n[/vc_column_text][/vc_column][vc_column width=”1/3″][vc_column_text]DOWNLOADS[/vc_column_text][vc_btn title=”Poster” link=”url:https%3A%2F%2Fwww.paonl.ca%2Fdownload%2Fwomens-ministries-conference-2022-poster%2F|title:Women%E2%80%99s%20Ministries%20Conference%202022%20Poster”][vc_btn title=”Schedule” link=”url:https%3A%2F%2Fwww.paonl.ca%2Fdownload%2Fwomens-ministries-conference-2022-schedule%2F|title:Women%E2%80%99s%20Ministries%20Conference%202022%20Schedule”][vc_btn title=”Registration Form” link=”url:https%3A%2F%2Fwww.paonl.ca%2Fdownload%2Fwomens-ministries-conference-2022-registration-form%2F|title:Women%E2%80%99s%20Ministries%20Conference%202022%20Registration%20Form”][/vc_column][/vc_row]
URL:https://www.paonl.ca/event/womens-ministries-conference-2022/
LOCATION:Emmanuel Convention Centre\, Lewisporte\, Newfoundland & Labrador\, Canada
ATTACH;FMTTYPE=image/jpeg:https://www.paonl.ca/wp-content/uploads/2022/06/Gather-Poster_Final-scaled.jpg
GEO:49.1415975;-55.0869845
END:VEVENT
END:VCALENDAR