BEGIN:VCALENDAR
VERSION:2.0
PRODID:-//PAONL - ECPv6.5.0//NONSGML v1.0//EN
CALSCALE:GREGORIAN
METHOD:PUBLISH
X-ORIGINAL-URL:https://www.paonl.ca
X-WR-CALDESC:Events for PAONL
REFRESH-INTERVAL;VALUE=DURATION:PT1H
X-Robots-Tag:noindex
X-PUBLISHED-TTL:PT1H
BEGIN:VTIMEZONE
TZID:America/St_Johns
BEGIN:DAYLIGHT
TZOFFSETFROM:-0330
TZOFFSETTO:-0230
TZNAME:NDT
DTSTART:20230312T053000
END:DAYLIGHT
BEGIN:STANDARD
TZOFFSETFROM:-0230
TZOFFSETTO:-0330
TZNAME:NST
DTSTART:20231105T043000
END:STANDARD
END:VTIMEZONE
BEGIN:VEVENT
DTSTART;VALUE=DATE:20230731
DTEND;VALUE=DATE:20230807
DTSTAMP:20260423T134836
CREATED:20230726T104827Z
LAST-MODIFIED:20230726T104827Z
UID:18984-1690761600-1691366399@www.paonl.ca
SUMMARY:Kids Rock Camp 2023
DESCRIPTION:[vc_row][vc_column width=”2/3″][vc_column_text]We are so excited that we are heading “back to the hill” for Kids Rock Camp this summer! \nAs a refresher\, this year we are changing the formats of our camps! Our first camp\, from July 31-August 2 will be for grades 4-6 – and you\, our amazing leaders & chaperones\, will be bringing groups from across the province. Our second camp\, from August 4-6\, will be for grades K-3\, and we are inviting parents and guardians to bring their children for an unforgettable family experience.[/vc_column_text][/vc_column][vc_column width=”1/3″][vc_column_text]DOWNLOADS[/vc_column_text][vc_btn title=”Memo” link=”url:https%3A%2F%2Fwww.paonl.ca%2Fdownload%2Fkids-rock-camp-2023-memo|title:Kids%20Rock%20on%20the%20Road%20Memo”][vc_btn title=”Poster” link=”url:https%3A%2F%2Fwww.paonl.ca%2Fdownload%2Fkids-rock-camp-2023-poster%2F|title:Kids%20Rock%20on%20the%20Road%20Poster”][/vc_column][/vc_row]
URL:https://www.paonl.ca/event/kids-rock-camp-2023/
LOCATION:Newfoundland & Labrador\, Canada
ATTACH;FMTTYPE=image/jpeg:https://www.paonl.ca/wp-content/uploads/2023/07/KRC-2023_Poster4-copy-scaled.jpg
GEO:53.1355091;-57.6604364
END:VEVENT
BEGIN:VEVENT
DTSTART;TZID=America/St_Johns:20230821T170000
DTEND;TZID=America/St_Johns:20230825T130000
DTSTAMP:20260423T134836
CREATED:20230517T170827Z
LAST-MODIFIED:20230726T105050Z
UID:18959-1692637200-1692968400@www.paonl.ca
SUMMARY:Youth Breakaway 2023
DESCRIPTION:We are so excited to announce this year’s Youth Breakaway camps at Emmanuel Convention Centre. \nAll pertinent information\, including registration links for pastors is listed below: \nRegistration Links (Pastors Only) \nYouth Breakaway 1 – https://onlineregnl.wufoo.com/forms/z1v1voij05z79d7/ \nYouth Breakaway 2 – https://onlineregnl.wufoo.com/forms/z1dg6b811d29jcp/ \nDownloadable Info (Pastors\, Students and Parents) \nProvincial Director’s Memo: Click Here \nGreat Expectations (Students and Parents): Click Here \nGeneral Reminders: Click Here \nIndividual Registration Forms: Click Here
URL:https://www.paonl.ca/event/youth-breakaway-2023/
LOCATION:Newfoundland & Labrador\, Canada
ATTACH;FMTTYPE=image/png:https://www.paonl.ca/wp-content/uploads/2023/05/YB-23-FB-OR-PPT-Slide.png
GEO:53.1355091;-57.6604364
END:VEVENT
END:VCALENDAR