BEGIN:VCALENDAR
VERSION:2.0
PRODID:-//PAONL - ECPv6.5.0//NONSGML v1.0//EN
CALSCALE:GREGORIAN
METHOD:PUBLISH
X-WR-CALNAME:PAONL
X-ORIGINAL-URL:https://www.paonl.ca
X-WR-CALDESC:Events for PAONL
REFRESH-INTERVAL;VALUE=DURATION:PT1H
X-Robots-Tag:noindex
X-PUBLISHED-TTL:PT1H
BEGIN:VTIMEZONE
TZID:America/St_Johns
BEGIN:DAYLIGHT
TZOFFSETFROM:-0330
TZOFFSETTO:-0230
TZNAME:NDT
DTSTART:20160313T053000
END:DAYLIGHT
BEGIN:STANDARD
TZOFFSETFROM:-0230
TZOFFSETTO:-0330
TZNAME:NST
DTSTART:20161106T043000
END:STANDARD
END:VTIMEZONE
BEGIN:VEVENT
DTSTART;TZID=America/St_Johns:20161007T130000
DTEND;TZID=America/St_Johns:20161009T120000
DTSTAMP:20260421T092346
CREATED:20160912T143940Z
LAST-MODIFIED:20160928T190305Z
UID:1699-1475845200-1476014400@www.paonl.ca
SUMMARY:YCNL 2016
DESCRIPTION:[vc_row][vc_column][vc_column_text] \nLuke 5:4 When He had stopped speaking\, He said to Simon\, “Launch out into the deep and let down your nets for a catch.” \nWhen Jesus finished teaching the crowds in Luke 5\, he told Peter to launch out into deeper water and get ready to experience a catch like he had have never seen before.  Peter had to take a step of faith and believe God would use him to witness a miracle of epic proportions. That same call will come our way on October 7-9\, 2016. God wants to LAUNCH this generation “beyond the shore\, into the waves” where they can experience the depth of His love and the depth of His plans for their lives.  This LAUNCH may take them across the street or around the world.  The countdown clock has begun.[/vc_column_text][vc_empty_space]2016/10/07 13:00:00[/vc_column][/vc_row][vc_row][vc_column]More Info[vc_empty_space height=”20″]Register Now[/vc_column][/vc_row]
URL:https://www.paonl.ca/event/ycnl-2016/
LOCATION:Paradise Double Ice Complex\, 68 McNamara Dr.\, Paradise\, Newfoundland\, A1L 1Y5\, Canada
ATTACH;FMTTYPE=image/jpeg:https://www.paonl.ca/wp-content/uploads/2016/09/yc2016-1.jpg
GEO:47.5235239;-52.8693287
X-APPLE-STRUCTURED-LOCATION;VALUE=URI;X-ADDRESS=Paradise Double Ice Complex 68 McNamara Dr. Paradise Newfoundland A1L 1Y5 Canada;X-APPLE-RADIUS=500;X-TITLE=68 McNamara Dr.:geo:-52.8693287,47.5235239
END:VEVENT
END:VCALENDAR